BEGIN:VCALENDAR
VERSION:2.0
PRODID:-//Plone.org//NONSGML plone.app.event//EN
X-WR-TIMEZONE:Europe/Vienna
BEGIN:VEVENT
SUMMARY:Reema Desai Gehi: Rudolf von Leyden und Indiens künstlerisches Er
 wachen
DTSTART;TZID=Europe/Vienna:20240620T180000
DTSTAMP:20260423T120630Z
UID:b61b4d92cb6f4ebcb17587d1090a92d2@www.akbild.ac.at
CATEGORIES:Vorträge / Veranstaltungen
CREATED:20240529T134437Z
DESCRIPTION:Zum Vermächtnis eines deutschen Gelehrten im Exil\, der vor d
 em Zweiten Weltkrieg nach Indien kam und dort zu einer Schlüsselfigur der
  Kunstwelt wurde – Vortrag und Buchpräsentation im Rahmen der Veranstal
 tungsreihe Wer A…sagt der A…kademibliothek
LAST-MODIFIED:20240919T080540Z
URL:https://www.akbild.ac.at/de/universitaet/universitaetsbibliothek/veran
 staltungen-1/vortraege-events/2024-1/new-event
END:VEVENT
BEGIN:VTIMEZONE
TZID:Europe/Vienna
X-LIC-LOCATION:Europe/Vienna
BEGIN:DAYLIGHT
DTSTART:20240331T030000
TZNAME:CEST
TZOFFSETFROM:+0100
TZOFFSETTO:+0200
END:DAYLIGHT
END:VTIMEZONE
END:VCALENDAR
