BEGIN:VCALENDAR
VERSION:2.0
PRODID:-//Plone.org//NONSGML plone.app.event//EN
X-WR-TIMEZONE:Europe/Vienna
BEGIN:VEVENT
SUMMARY:Traumbilder eines Grönlandwals
DTSTART;TZID=Europe/Vienna:20241204T180000
DTSTAMP:20260422T222013Z
UID:4c9de9efd17640cebfc5c181f333e6c0@www.akbild.ac.at
CATEGORIES:Vorträge / Veranstaltungen
CREATED:20241116T152422Z
DESCRIPTION:Auf Grönlands Wassern trieb eines Morgens die Frage: Was kön
 nen Kunst und Literatur in einer erschöpften Welt leisten? Eine poetisch-
 performative Antwort gibt das gecko art-Duo im Rahmen der Veranstaltungsre
 ihe Wer A… sagt der A…kademiebibliothek.
LAST-MODIFIED:20241118T075520Z
URL:https://www.akbild.ac.at/de/universitaet/universitaetsbibliothek/veran
 staltungen-1/vortraege-events/2024-1/traumbilder-eines-groenlandwals
END:VEVENT
BEGIN:VTIMEZONE
TZID:Europe/Vienna
X-LIC-LOCATION:Europe/Vienna
BEGIN:STANDARD
DTSTART:20241027T020000
TZNAME:CET
TZOFFSETFROM:+0200
TZOFFSETTO:+0100
END:STANDARD
END:VTIMEZONE
END:VCALENDAR
