BEGIN:VCALENDAR
VERSION:2.0
PRODID:-//Plone.org//NONSGML plone.app.event//EN
X-WR-TIMEZONE:Europe/Vienna
BEGIN:VEVENT
SUMMARY:Gänsekiel\, Kringel\, Tintenklecks – Kurrentschrift schreiben u
 nd lesen
DTSTART;TZID=Europe/Vienna:20251204T143000
DTEND;TZID=Europe/Vienna:20251204T163000
DTSTAMP:20260422T222056Z
UID:6db3966334634b228308cba142bae1b5@www.akbild.ac.at
CATEGORIES:Vorträge / Veranstaltungen
CREATED:20240312T165736Z
DESCRIPTION:Ein dreiteiliger Kurrent-Workshop des Universitätsarchivs mit
  Ulrike Hirhager im Rahmen der Reihe WissensWert der A…kademiebibliothek
LAST-MODIFIED:20251028T155115Z
URL:https://www.akbild.ac.at/de/universitaet/universitaetsbibliothek/veran
 staltungen-1/vortraege-events/2025/gaensekiel-kringel-tintenklecks-kurrent
 schrift-schreiben-und-lesen
END:VEVENT
BEGIN:VTIMEZONE
TZID:Europe/Vienna
X-LIC-LOCATION:Europe/Vienna
BEGIN:STANDARD
DTSTART:20251026T020000
TZNAME:CET
TZOFFSETFROM:+0200
TZOFFSETTO:+0100
END:STANDARD
END:VTIMEZONE
END:VCALENDAR
