BEGIN:VCALENDAR
VERSION:2.0
PRODID:-//Plone.org//NONSGML plone.app.event//EN
X-WR-TIMEZONE:Europe/Vienna
BEGIN:VEVENT
SUMMARY:Gunter Damisch und "New Talents"
DTSTART;VALUE=DATE:20080312
DTEND;VALUE=DATE:20080628
DTSTAMP:20260423T084709Z
UID:0b12f15402ba8e6a4c755b0dc80b3959@www.akbild.ac.at
CATEGORIES:Ausstellungen
CREATED:20220311T222456Z
DESCRIPTION:Daniel Domig – Valetin Hirsch – Adrienn Kiss – Manuel Kn
 app – Philip Patkowitsch – Mathias Pöschl – Anna Schreger – Fabia
 n Seiz\n \n Die Invest Art Premiere präsentiert eine Auswahl des Ordinari
 ats für Grafik und druckgrafische Techniken an der Akademie der bildenden
  Künste Wien.
LAST-MODIFIED:20240919T081008Z
URL:https://www.akbild.ac.at/de/universitaet/veranstaltungen/ausstellungen
 -vermittlung/2008/akbild_event.2008-04-01.8304955790
END:VEVENT
END:VCALENDAR
