BEGIN:VCALENDAR
VERSION:2.0
PRODID:-//Plone.org//NONSGML plone.app.event//EN
X-WR-TIMEZONE:Europe/Vienna
BEGIN:VEVENT
SUMMARY:In der Wüste der Moderne | Koloniale Planung und danach
DTSTART;VALUE=DATE:20080828
DTEND;VALUE=DATE:20080829
DTSTAMP:20260423T142300Z
UID:0c18a012475b136c14dd2281343b1b42@www.akbild.ac.at
CREATED:20220311T222502Z
DESCRIPTION:Ausstellung\, Film\, Performance\, Gespräche\, internationale
  Konferenz
LAST-MODIFIED:20240919T081008Z
URL:https://www.akbild.ac.at/de/universitaet/veranstaltungen/ausstellungen
 -vermittlung/2008/akbild_event.2008-08-19.4582931770/SubEvent
END:VEVENT
END:VCALENDAR
