BEGIN:VCALENDAR
VERSION:2.0
PRODID:-//Plone.org//NONSGML plone.app.event//EN
X-WR-TIMEZONE:Europe/Vienna
BEGIN:VEVENT
SUMMARY:Overlapping Voices | Israeli and Palestinian Artists
DTSTART;VALUE=DATE:20080516
DTEND;VALUE=DATE:20081027
DTSTAMP:20260424T005316Z
UID:358a2aa88958ee6c20c07917e656d3db@www.akbild.ac.at
CATEGORIES:Ausstellungen
CREATED:20220311T222513Z
DESCRIPTION:Essl Museum – Ausstellungshalle\n \n Kuratoren: Karin Schnei
 der\, Friedemann Derschmidt\, Tal Adler\, Amal Murkus
LAST-MODIFIED:20240919T081008Z
URL:https://www.akbild.ac.at/de/universitaet/veranstaltungen/ausstellungen
 -vermittlung/2008/akbild_event.2008-08-28.7661821365
END:VEVENT
END:VCALENDAR
