BEGIN:VCALENDAR
VERSION:2.0
PRODID:-//Plone.org//NONSGML plone.app.event//EN
X-WR-TIMEZONE:Europe/Vienna
BEGIN:VEVENT
SUMMARY:Surroundings | Patrick Topitschnig
DTSTART;TZID=Europe/Vienna:20090421T190000
DTSTAMP:20260423T175837Z
UID:746d65d3b3fd2262b906baf238bedec7@www.akbild.ac.at
CREATED:20220311T222657Z
DESCRIPTION:Täglich 11.00 - 18.00 h | Eintritt frei
LAST-MODIFIED:20240919T080958Z
URL:https://www.akbild.ac.at/de/universitaet/veranstaltungen/ausstellungen
 -vermittlung/2009/akbild_event.2009-04-01.6065639287/SubEvent
END:VEVENT
BEGIN:VTIMEZONE
TZID:Europe/Vienna
X-LIC-LOCATION:Europe/Vienna
BEGIN:DAYLIGHT
DTSTART:20090329T030000
TZNAME:CEST
TZOFFSETFROM:+0100
TZOFFSETTO:+0200
END:DAYLIGHT
END:VTIMEZONE
END:VCALENDAR
