BEGIN:VCALENDAR
VERSION:2.0
PRODID:-//Plone.org//NONSGML plone.app.event//EN
X-WR-TIMEZONE:Europe/Vienna
BEGIN:VEVENT
SUMMARY:A university with a highway running through it
DTSTART;TZID=Europe/Vienna:20090428T190000
DTSTAMP:20260423T161833Z
UID:1121ecf3cd72f22381eac1f8a4fa1074@www.akbild.ac.at
CREATED:20220311T222700Z
DESCRIPTION:TeilnehmerInnen | Andrea Barth\, Patrick Hammer\, David Harris
 \, Anders Hjortenberg Jelstrup\, Pia Spiesberger\, Crystal Tang\n \n Tägl
 ich 11.00 - 18.00 h | Eintritt frei
LAST-MODIFIED:20240919T080958Z
URL:https://www.akbild.ac.at/de/universitaet/veranstaltungen/ausstellungen
 -vermittlung/2009/akbild_event.2009-04-10.1501538520/SubEvent
END:VEVENT
BEGIN:VTIMEZONE
TZID:Europe/Vienna
X-LIC-LOCATION:Europe/Vienna
BEGIN:DAYLIGHT
DTSTART:20090329T030000
TZNAME:CEST
TZOFFSETFROM:+0100
TZOFFSETTO:+0200
END:DAYLIGHT
END:VTIMEZONE
END:VCALENDAR
