BEGIN:VCALENDAR
VERSION:2.0
PRODID:-//Plone.org//NONSGML plone.app.event//EN
X-WR-TIMEZONE:Europe/Vienna
BEGIN:VEVENT
SUMMARY:Die Utopie einer kollektiven Kunst | Gruppe Kunst im öffentlichen
  Raum
DTSTART;TZID=Europe/Vienna:20090519T190000
DTSTAMP:20260423T161929Z
UID:4c576c6b26d3bf4e1d2c90448cda2fef@www.akbild.ac.at
CREATED:20220311T222703Z
DESCRIPTION:KünstlerInnen | Sabine Gangnus\, Daniel Hafner\, Bernd Hofbau
 er\, Bettina Kattinger\, Sarah Kienpointner\, Thomas Lehner\, Nadine Lemke
 \, René Stessl\, Arthur Summereder\, Michael Suszynski\, Ulrike Wagendorf
 er\n \n Täglich 11.00–18.00 h | Eintritt frei
LAST-MODIFIED:20240919T080958Z
URL:https://www.akbild.ac.at/de/universitaet/veranstaltungen/ausstellungen
 -vermittlung/2009/akbild_event.2009-04-10.6160171546/SubEvent
END:VEVENT
BEGIN:VTIMEZONE
TZID:Europe/Vienna
X-LIC-LOCATION:Europe/Vienna
BEGIN:DAYLIGHT
DTSTART:20090329T030000
TZNAME:CEST
TZOFFSETFROM:+0100
TZOFFSETTO:+0200
END:DAYLIGHT
END:VTIMEZONE
END:VCALENDAR
