BEGIN:VCALENDAR
VERSION:2.0
PRODID:-//Plone.org//NONSGML plone.app.event//EN
X-WR-TIMEZONE:Europe/Vienna
BEGIN:VEVENT
SUMMARY:Shiftings | Robert Bodnar
DTSTART;TZID=Europe/Vienna:20090512T190000
DTSTAMP:20260423T175843Z
UID:58611b559c5fa7963dfb6b071f50ee83@www.akbild.ac.at
CREATED:20220311T222654Z
DESCRIPTION:Täglich 11.00–18.00 h | Eintritt frei
LAST-MODIFIED:20240919T080958Z
URL:https://www.akbild.ac.at/de/universitaet/veranstaltungen/ausstellungen
 -vermittlung/2009/akbild_event.2009-04-10.7240016560/SubEvent
END:VEVENT
BEGIN:VTIMEZONE
TZID:Europe/Vienna
X-LIC-LOCATION:Europe/Vienna
BEGIN:DAYLIGHT
DTSTART:20090329T030000
TZNAME:CEST
TZOFFSETFROM:+0100
TZOFFSETTO:+0200
END:DAYLIGHT
END:VTIMEZONE
END:VCALENDAR
