BEGIN:VCALENDAR
VERSION:2.0
PRODID:-//Plone.org//NONSGML plone.app.event//EN
X-WR-TIMEZONE:Europe/Vienna
BEGIN:VEVENT
SUMMARY:"Body + Shape" aka: "Istanbul + Vienna Lovers"
DTSTART;TZID=Europe/Vienna:20090519T180000
DTSTAMP:20260423T191807Z
UID:e667ef4798645fe4f39b63a5f904c1d0@www.akbild.ac.at
CREATED:20220311T222529Z
DESCRIPTION:Ausstellung von Studierenden der Akademie und der Mimar Sinan 
 Üniversitesi Istanbul im Rahmen des Austauschprojektes "City and Art".
LAST-MODIFIED:20240919T080958Z
URL:https://www.akbild.ac.at/de/universitaet/veranstaltungen/ausstellungen
 -vermittlung/2009/akbild_event.2009-05-12.6088710305/SubEvent
END:VEVENT
BEGIN:VTIMEZONE
TZID:Europe/Vienna
X-LIC-LOCATION:Europe/Vienna
BEGIN:DAYLIGHT
DTSTART:20090329T030000
TZNAME:CEST
TZOFFSETFROM:+0100
TZOFFSETTO:+0200
END:DAYLIGHT
END:VTIMEZONE
END:VCALENDAR
