BEGIN:VCALENDAR
VERSION:2.0
PRODID:-//Plone.org//NONSGML plone.app.event//EN
X-WR-TIMEZONE:Europe/Vienna
BEGIN:VEVENT
SUMMARY:Sara Deraedt\, Benjamin Hirte
DTSTART;TZID=Europe/Vienna:20091006T193000
DTSTAMP:20260423T175843Z
UID:20aa15f7b95619fc7f210f7abaf3322b@www.akbild.ac.at
CREATED:20220311T222735Z
DESCRIPTION:Täglich 14.00–19.00 h | Eintritt frei
LAST-MODIFIED:20240919T081002Z
URL:https://www.akbild.ac.at/de/universitaet/veranstaltungen/ausstellungen
 -vermittlung/2009/akbild_event.2009-09-07.2763985208/SubEvent
END:VEVENT
BEGIN:VTIMEZONE
TZID:Europe/Vienna
X-LIC-LOCATION:Europe/Vienna
BEGIN:DAYLIGHT
DTSTART:20090329T030000
TZNAME:CEST
TZOFFSETFROM:+0100
TZOFFSETTO:+0200
END:DAYLIGHT
END:VTIMEZONE
END:VCALENDAR
