BEGIN:VCALENDAR
VERSION:2.0
PRODID:-//Plone.org//NONSGML plone.app.event//EN
X-WR-TIMEZONE:Europe/Vienna
BEGIN:VEVENT
SUMMARY:Geschwindigkeit | Mario Neugebauer
DTSTART;TZID=Europe/Vienna:20091024T190000
DTSTAMP:20260421T135630Z
UID:159125d95984c0de27f301e921fca04b@www.akbild.ac.at
CATEGORIES:Ausstellungen
CREATED:20220311T222600Z
DESCRIPTION:Midissage: 27.10.2009\, 19.00 h\n \n Finissage: 28.10.2009\, 1
 9.00 h
LAST-MODIFIED:20240919T080958Z
URL:https://www.akbild.ac.at/de/universitaet/veranstaltungen/ausstellungen
 -vermittlung/2009/akbild_event.2009-09-17.6780282567
END:VEVENT
BEGIN:VTIMEZONE
TZID:Europe/Vienna
X-LIC-LOCATION:Europe/Vienna
BEGIN:DAYLIGHT
DTSTART:20090329T030000
TZNAME:CEST
TZOFFSETFROM:+0100
TZOFFSETTO:+0200
END:DAYLIGHT
END:VTIMEZONE
END:VCALENDAR
