BEGIN:VCALENDAR
VERSION:2.0
PRODID:-//Plone.org//NONSGML plone.app.event//EN
X-WR-TIMEZONE:Europe/Vienna
BEGIN:VEVENT
SUMMARY:Welches Leben? Zwischen Beruf und Berufung
DTSTART;TZID=Europe/Vienna:20091105T190000
DTSTAMP:20260423T181715Z
UID:edee4411621b2a1261e194d8cf26c4e8@www.akbild.ac.at
CREATED:20220311T222647Z
DESCRIPTION:Öffnungszeiten: Mo-Sa 11.00-18.00 h\, Do 11.00-20.00 h\n \n \
 n KuratorInnenprojekt der Akademie der bildenden Künste Wien 2009\n \n Ku
 ratorin: Sabine Breitwieser
LAST-MODIFIED:20240919T080958Z
URL:https://www.akbild.ac.at/de/universitaet/veranstaltungen/ausstellungen
 -vermittlung/2009/akbild_event.2009-09-30.7587805290/SubEvent
END:VEVENT
BEGIN:VTIMEZONE
TZID:Europe/Vienna
X-LIC-LOCATION:Europe/Vienna
BEGIN:STANDARD
DTSTART:20091025T020000
TZNAME:CET
TZOFFSETFROM:+0200
TZOFFSETTO:+0100
END:STANDARD
END:VTIMEZONE
END:VCALENDAR
