BEGIN:VCALENDAR
VERSION:2.0
PRODID:-//Plone.org//NONSGML plone.app.event//EN
X-WR-TIMEZONE:Europe/Vienna
BEGIN:VEVENT
SUMMARY:Malerei heute.
DTSTART;TZID=Europe/Vienna:20091106T181500
DTSTAMP:20260424T064102Z
UID:5c8e0b03d061b884ad3f3861e8a7f67c@www.akbild.ac.at
CATEGORIES:Ausstellungen
CREATED:20220311T222817Z
DESCRIPTION:Ein Ausstellungsprojekt des Ordinariats Erweiterter malerische
 r Raum | Prof. Daniel Richter\, Akademie der bildenden Künste\, Wien\, cu
 ratiert von Marko Lulic.
LAST-MODIFIED:20240919T081002Z
URL:https://www.akbild.ac.at/de/universitaet/veranstaltungen/ausstellungen
 -vermittlung/2009/akbild_event.2009-11-05.0006528735
END:VEVENT
BEGIN:VTIMEZONE
TZID:Europe/Vienna
X-LIC-LOCATION:Europe/Vienna
BEGIN:STANDARD
DTSTART:20091025T020000
TZNAME:CET
TZOFFSETFROM:+0200
TZOFFSETTO:+0100
END:STANDARD
END:VTIMEZONE
END:VCALENDAR
