BEGIN:VCALENDAR
VERSION:2.0
PRODID:-//Plone.org//NONSGML plone.app.event//EN
X-WR-TIMEZONE:Europe/Vienna
BEGIN:VEVENT
SUMMARY:Saskia Te Nicklin | ACHTUNG - Absage aus aktuellem Anlass!
DTSTART;TZID=Europe/Vienna:20091201T193000
DTSTAMP:20260423T165638Z
UID:06ba1deb7f7ee9a890337b0e957666bd@www.akbild.ac.at
CREATED:20220311T222744Z
DESCRIPTION:Täglich 14.00–19.00 h | Eintritt frei\n \n \n Im Zuge der S
 tudentInnen-Proteste ist die Aula immer noch besetzt\, daher muss die näc
 hste Ausstellung des Demoraums abgesagt werden. Aktuell steht für die Akt
 ivitäten des Demoraums kein Ausstellungsraum zur Verfügung.
LAST-MODIFIED:20240919T081002Z
URL:https://www.akbild.ac.at/de/universitaet/veranstaltungen/ausstellungen
 -vermittlung/2009/akbild_event.2009-11-18.2068029147/SubEvent
END:VEVENT
BEGIN:VTIMEZONE
TZID:Europe/Vienna
X-LIC-LOCATION:Europe/Vienna
BEGIN:STANDARD
DTSTART:20091025T020000
TZNAME:CET
TZOFFSETFROM:+0200
TZOFFSETTO:+0100
END:STANDARD
END:VTIMEZONE
END:VCALENDAR
