BEGIN:VCALENDAR
VERSION:2.0
PRODID:-//Plone.org//NONSGML plone.app.event//EN
X-WR-TIMEZONE:Europe/Vienna
BEGIN:VEVENT
SUMMARY:Gegenwart kuratorischer Praxis
DTSTART;VALUE=DATE:20100113
DTEND;VALUE=DATE:20100116
DTSTAMP:20260423T151552Z
UID:12759d90482ff0e87ed517723da83a1b@www.akbild.ac.at
CATEGORIES:Ausstellungen
CREATED:20220311T222924Z
DESCRIPTION:Demoraumseminar\n \n Öffentliche Vorträge und Diskussionen
LAST-MODIFIED:20240919T080958Z
URL:https://www.akbild.ac.at/de/universitaet/veranstaltungen/ausstellungen
 -vermittlung/2010/akbild_event.2009-11-18.4147087383
END:VEVENT
END:VCALENDAR
