BEGIN:VCALENDAR
VERSION:2.0
PRODID:-//Plone.org//NONSGML plone.app.event//EN
X-WR-TIMEZONE:Europe/Vienna
BEGIN:VEVENT
SUMMARY:Trial (Our house) / Trial Trail
DTSTART;TZID=Europe/Vienna:20100518T190000
DTSTAMP:20260423T013546Z
UID:fd6ad2cafe7107552ec9a406549b88eb@www.akbild.ac.at
CREATED:20220311T222850Z
DESCRIPTION:Ausstellung von Studierenden der Prager Akademie výtvarných 
 umění v Praze (AVU) und Studierenden der Akademie der bildenden Künste 
 Wien\, Textuelle Bildhauerei. Eine Zusammenarbeit von Jiří Ševčík\, D
 ominik Lang\, Jiří Příhoda\, Simone Bader\, Roland Kollnitz\, Heimo Zo
 bernig.
LAST-MODIFIED:20240919T080955Z
URL:https://www.akbild.ac.at/de/universitaet/veranstaltungen/ausstellungen
 -vermittlung/2010/akbild_event.2010-05-04.1694448032/SubEvent
END:VEVENT
BEGIN:VTIMEZONE
TZID:Europe/Vienna
X-LIC-LOCATION:Europe/Vienna
BEGIN:DAYLIGHT
DTSTART:20100328T030000
TZNAME:CEST
TZOFFSETFROM:+0100
TZOFFSETTO:+0200
END:DAYLIGHT
END:VTIMEZONE
END:VCALENDAR
