BEGIN:VCALENDAR
VERSION:2.0
PRODID:-//Plone.org//NONSGML plone.app.event//EN
X-WR-TIMEZONE:Europe/Vienna
BEGIN:VEVENT
SUMMARY:Rückkehr der alten Meister
DTSTART;TZID=Europe/Vienna:20100922T190000
DTSTAMP:20260419T125044Z
UID:61f1f8b37ecf42ac62ba1ff3006e5832@www.akbild.ac.at
CATEGORIES:Ausstellungen
CREATED:20220311T222916Z
DESCRIPTION:Pressegespräch: Mittwoch\, 22. September 2010\, 10.00 Uhr\n \
 n Öffnungszeiten: Dienstag – Sonntag 10.00 – 18.00 Uhr\n \n Führunge
 n: jeweils Sonntag um 10.30 Uhr\n \n und mit Voranmeldung unter +43 (1) 58
  816-2201\n \n oder +43 (1) 58 816
LAST-MODIFIED:20240919T080958Z
URL:https://www.akbild.ac.at/de/universitaet/veranstaltungen/ausstellungen
 -vermittlung/2010/akbild_event.2013-09-23.8345059415
END:VEVENT
BEGIN:VTIMEZONE
TZID:Europe/Vienna
X-LIC-LOCATION:Europe/Vienna
BEGIN:DAYLIGHT
DTSTART:20100328T030000
TZNAME:CEST
TZOFFSETFROM:+0100
TZOFFSETTO:+0200
END:DAYLIGHT
END:VTIMEZONE
END:VCALENDAR
