BEGIN:VCALENDAR
VERSION:2.0
PRODID:-//Plone.org//NONSGML plone.app.event//EN
X-WR-TIMEZONE:Europe/Vienna
BEGIN:VEVENT
SUMMARY:Post-Oil City | Die Geschichte der Zukunft der Stadt
DTSTART;TZID=Europe/Vienna:20110127T180000
DTSTAMP:20260423T144039Z
UID:f0f434fe90d3d3ed2f739469a3b8fcf5@www.akbild.ac.at
CREATED:20220311T223105Z
DESCRIPTION:Eine Ausstellung des Instituts für Auslandsbeziehungen in Koo
 peration mit ARCH+ und dem Institut für Kunst und Architektur.\n \n Öffn
 ungszeiten: Dienstag - Sonntag\, 11:00-19:00 Uhr\n \n \n Eintritt frei
LAST-MODIFIED:20240919T080955Z
URL:https://www.akbild.ac.at/de/universitaet/veranstaltungen/ausstellungen
 -vermittlung/2011/akbild_event.2011-01-14.5443511814/SubEvent
END:VEVENT
BEGIN:VTIMEZONE
TZID:Europe/Vienna
X-LIC-LOCATION:Europe/Vienna
BEGIN:STANDARD
DTSTART:20101031T020000
TZNAME:CET
TZOFFSETFROM:+0200
TZOFFSETTO:+0100
END:STANDARD
END:VTIMEZONE
END:VCALENDAR
