BEGIN:VCALENDAR
VERSION:2.0
PRODID:-//Plone.org//NONSGML plone.app.event//EN
X-WR-TIMEZONE:Europe/Vienna
BEGIN:VEVENT
SUMMARY:Ägypten für Daheimgebliebene – Norbert Bittners Phantasien vom
  Land am Nil aus der Zeit des Biedermeier
DTSTART;VALUE=DATE:20110527
DTEND;VALUE=DATE:20110921
DTSTAMP:20260419T163311Z
UID:01b51a0ca1464b32a617a301c9623f5b@www.akbild.ac.at
CATEGORIES:Ausstellungen
CREATED:20220311T223040Z
DESCRIPTION:Eine Ausstellung des Liechtenstein Museums in Kooperation mit 
 dem Kupferstichkabinett der Akademie der bildenden Künste Wien
LAST-MODIFIED:20240919T080955Z
URL:https://www.akbild.ac.at/de/universitaet/veranstaltungen/ausstellungen
 -vermittlung/2011/akbild_event.2011-05-17.5368911760
END:VEVENT
END:VCALENDAR
