BEGIN:VCALENDAR
VERSION:2.0
PRODID:-//Plone.org//NONSGML plone.app.event//EN
X-WR-TIMEZONE:Europe/Vienna
BEGIN:VEVENT
SUMMARY:Anfang\, Dazwischen und Ende
DTSTART;VALUE=DATE:20110616
DTEND;VALUE=DATE:20110711
DTSTAMP:20260424T033047Z
UID:0a5aa7f64662cd51793c538383e2a3b8@www.akbild.ac.at
CATEGORIES:Ausstellungen
CREATED:20220311T223032Z
DESCRIPTION:23 KünstlerInnen\, größtenteils Studierende der Akademie de
 r bildenden Künste Wien\, Kunst und digitale Medien\, bespielen die Räum
 e einer ehemaligen Glasbläserei im 9. Wiener Gemeindebezirk in aufeinande
 rfolgenden Gruppen.\n \n Eröffnungen jeden Donnerstag um 19 Uhr\n \n Öff
 nungszeiten FR/SA/SO 16 bis 20 Uhr
LAST-MODIFIED:20240919T080955Z
URL:https://www.akbild.ac.at/de/universitaet/veranstaltungen/ausstellungen
 -vermittlung/2011/akbild_event.2011-06-21.7431558449
END:VEVENT
END:VCALENDAR
