BEGIN:VCALENDAR
VERSION:2.0
PRODID:-//Plone.org//NONSGML plone.app.event//EN
X-WR-TIMEZONE:Europe/Vienna
BEGIN:VEVENT
SUMMARY:15 dag Extrawurst | Sammlung Eyb/Green
DTSTART:20111001T000000Z
DTEND;TZID=Europe/Vienna:20111001T180000
DTSTAMP:20260421T221930Z
UID:940cbba4d1482337817a147147b2621a@www.akbild.ac.at
CATEGORIES:Ausstellungen
CREATED:20220311T223137Z
DESCRIPTION:Eröffnung: Dr. Monika Knofler (Kupferstichkabinett der Akadem
 ie der bildenden Künste)\n \n Ausstellungsprojekt von Sigrid Eyb-Green (I
 nstitut für Konservierung-Restaurierung) und Margarete Eyb im Rahmen der 
 Langen Nacht der Museen.
LAST-MODIFIED:20240919T080955Z
URL:https://www.akbild.ac.at/de/universitaet/veranstaltungen/ausstellungen
 -vermittlung/2011/akbild_event.2011-08-31.4085490726
END:VEVENT
BEGIN:VTIMEZONE
TZID:Europe/Vienna
X-LIC-LOCATION:Europe/Vienna
BEGIN:DAYLIGHT
DTSTART:20110327T030000
TZNAME:CEST
TZOFFSETFROM:+0100
TZOFFSETTO:+0200
END:DAYLIGHT
END:VTIMEZONE
END:VCALENDAR
