BEGIN:VCALENDAR
VERSION:2.0
PRODID:-//Plone.org//NONSGML plone.app.event//EN
X-WR-TIMEZONE:Europe/Vienna
BEGIN:VEVENT
SUMMARY:Ferdinand Schmutzer | Freud und seine Zeit im Porträt
DTSTART;TZID=Europe/Vienna:20111013T190000
DTSTAMP:20260424T052800Z
UID:8d25b3a81733c734f30ed694629a6db5@www.akbild.ac.at
CREATED:20220311T223051Z
DESCRIPTION:Eine Ausstellung der KOOPERATIVA poisťovňa in Kooperation mi
 t Sigmund Freud Museum und Kupferstichkabinett der Akademie der bildenden 
 Künste Wien.
LAST-MODIFIED:20240919T080955Z
URL:https://www.akbild.ac.at/de/universitaet/veranstaltungen/ausstellungen
 -vermittlung/2011/akbild_event.2011-10-07.0012027909/SubEvent
END:VEVENT
BEGIN:VTIMEZONE
TZID:Europe/Vienna
X-LIC-LOCATION:Europe/Vienna
BEGIN:DAYLIGHT
DTSTART:20110327T030000
TZNAME:CEST
TZOFFSETFROM:+0100
TZOFFSETTO:+0200
END:DAYLIGHT
END:VTIMEZONE
END:VCALENDAR
