BEGIN:VCALENDAR
VERSION:2.0
PRODID:-//Plone.org//NONSGML plone.app.event//EN
X-WR-TIMEZONE:Europe/Vienna
BEGIN:VEVENT
SUMMARY:Vor Thessaloniki / Approaching Thessaloniki
DTSTART;TZID=Europe/Vienna:20111123T170000
DTSTAMP:20260419T150411Z
UID:839b0ecb0a02b2d52c22a651b44bf643@www.akbild.ac.at
CREATED:20220311T223156Z
DESCRIPTION:Ausstellung und Katalogpräsentation der Teilnehmer_innen der 
 Biennial of Young Artists from Europe and the Mediterranean\, kuratiert vo
 n Mona Hahn. Zur Eröffnung spricht Sektionschefin Mag. Andrea Ecker\, Kun
 stsektion im BMUKK.\n \n Öffnungszeiten: tägl. 12.00 - 19.00 Uhr
LAST-MODIFIED:20240919T080955Z
URL:https://www.akbild.ac.at/de/universitaet/veranstaltungen/ausstellungen
 -vermittlung/2011/akbild_event.2011-11-10.3147470923/SubEvent
END:VEVENT
BEGIN:VTIMEZONE
TZID:Europe/Vienna
X-LIC-LOCATION:Europe/Vienna
BEGIN:STANDARD
DTSTART:20111030T020000
TZNAME:CET
TZOFFSETFROM:+0200
TZOFFSETTO:+0100
END:STANDARD
END:VTIMEZONE
END:VCALENDAR
