BEGIN:VCALENDAR
VERSION:2.0
PRODID:-//Plone.org//NONSGML plone.app.event//EN
X-WR-TIMEZONE:Europe/Vienna
BEGIN:VEVENT
SUMMARY:Stadt lernen - Schüler_innen und Studierende arbeiten mit dem Wie
 n Museum
DTSTART;VALUE=DATE:20111201
DTEND;VALUE=DATE:20120116
DTSTAMP:20260424T185818Z
UID:5575036d1e969cd5857fa48ff369e015@www.akbild.ac.at
CATEGORIES:Ausstellungen
CREATED:20220311T223053Z
DESCRIPTION:Ein Projekt vom Institut für das künstlerische Lehramt in Ko
 operation mit dem Wien Museum.\n \n Öffnungszeiten: Dienstag bis Sonntag 
 &amp\; Feiertag\, 10 bis 18 Uhr\n \n Samstag\, 24. und 31. Dezember: 10 bi
 s 14 Uhr\n \n Geschlossen: 1.1.\, 1.5. und 25.12.
LAST-MODIFIED:20240919T080955Z
URL:https://www.akbild.ac.at/de/universitaet/veranstaltungen/ausstellungen
 -vermittlung/2011/akbild_event.2011-11-11.5435576312
END:VEVENT
END:VCALENDAR
