BEGIN:VCALENDAR
VERSION:2.0
PRODID:-//Plone.org//NONSGML plone.app.event//EN
X-WR-TIMEZONE:Europe/Vienna
BEGIN:VEVENT
SUMMARY:Gips folgt Stein. Das Keckmann-Grabdenkmal
DTSTART;VALUE=DATE:20111208
DTEND;VALUE=DATE:20120213
DTSTAMP:20260424T204532Z
UID:3250ad5b94ee6c48d74e7324637d5fca@www.akbild.ac.at
CATEGORIES:Ausstellungen
CREATED:20220311T223159Z
DESCRIPTION:Eine Ausstellung der Gemäldegalerie der Akademie der bildende
 n Künste Wien in Zusammenarbeit mit dem Bundesdenkmalamt und der Dombauh
 ütte zu St. Stephan.
LAST-MODIFIED:20240919T080955Z
URL:https://www.akbild.ac.at/de/universitaet/veranstaltungen/ausstellungen
 -vermittlung/2011/akbild_event.2011-11-30.7690475399
END:VEVENT
END:VCALENDAR
