BEGIN:VCALENDAR
VERSION:2.0
PRODID:-//Plone.org//NONSGML plone.app.event//EN
X-WR-TIMEZONE:Europe/Vienna
BEGIN:VEVENT
SUMMARY:Fallen Temples
DTSTART;TZID=Europe/Vienna:20120430T180000
DTSTAMP:20260424T021739Z
UID:5483f77abf3234af5c68abda1d32a369@www.akbild.ac.at
CATEGORIES:Ausstellungen
CREATED:20220311T223227Z
DESCRIPTION:Chambre d'amis - Raum für aktuelle Kunst\n \n Ausstellungspro
 jekt kuratiert von Paran Pour und Anna Spanlang. Veranstaltet vom Institut
  für bildende Kunst\, Video und Videoinstallation.
LAST-MODIFIED:20240919T080952Z
URL:https://www.akbild.ac.at/de/universitaet/veranstaltungen/ausstellungen
 -vermittlung/2012/akbild_event.2012-04-24.2975352499
END:VEVENT
BEGIN:VTIMEZONE
TZID:Europe/Vienna
X-LIC-LOCATION:Europe/Vienna
BEGIN:DAYLIGHT
DTSTART:20120325T030000
TZNAME:CEST
TZOFFSETFROM:+0100
TZOFFSETTO:+0200
END:DAYLIGHT
END:VTIMEZONE
END:VCALENDAR
