BEGIN:VCALENDAR
VERSION:2.0
PRODID:-//Plone.org//NONSGML plone.app.event//EN
X-WR-TIMEZONE:Europe/Vienna
BEGIN:VEVENT
SUMMARY:Taking the Academy to the Streets!
DTSTART;TZID=Europe/Vienna:20121012T173000
DTSTAMP:20260423T123818Z
UID:d226f8d813a41a402f285dc7840fb810@www.akbild.ac.at
CREATED:20220311T223314Z
DESCRIPTION:Ausstellung und Interventionsprogramm der Plattform für Geogr
 afie\, Landschaften und Städte am Institut für Kunst und Architektur der
  Akademie der bildenden Künste Wien im Rahmen des urbanize! Festival 2012
 .\n \n \n Öffnungszeiten der Ausstellung jeweils von 11:00-18:00 Uhr
LAST-MODIFIED:20240919T080952Z
URL:https://www.akbild.ac.at/de/universitaet/veranstaltungen/ausstellungen
 -vermittlung/2012/akbild_event.2012-10-05.0793466372/SubEvent
END:VEVENT
BEGIN:VTIMEZONE
TZID:Europe/Vienna
X-LIC-LOCATION:Europe/Vienna
BEGIN:DAYLIGHT
DTSTART:20120325T030000
TZNAME:CEST
TZOFFSETFROM:+0100
TZOFFSETTO:+0200
END:DAYLIGHT
END:VTIMEZONE
END:VCALENDAR
