BEGIN:VCALENDAR
VERSION:2.0
PRODID:-//Plone.org//NONSGML plone.app.event//EN
X-WR-TIMEZONE:Europe/Vienna
BEGIN:VEVENT
SUMMARY:eine malereiausstellung
DTSTART;TZID=Europe/Vienna:20121126T190000
DTSTAMP:20260423T144821Z
UID:15d3a80d0b19e23d41ae7b780514663e@www.akbild.ac.at
CREATED:20220311T223302Z
DESCRIPTION:Öffnungszeiten 16.00 - 19.00 Uhr
LAST-MODIFIED:20240919T080952Z
URL:https://www.akbild.ac.at/de/universitaet/veranstaltungen/ausstellungen
 -vermittlung/2012/akbild_event.2012-11-19.3623996037/SubEvent
END:VEVENT
BEGIN:VTIMEZONE
TZID:Europe/Vienna
X-LIC-LOCATION:Europe/Vienna
BEGIN:STANDARD
DTSTART:20121028T020000
TZNAME:CET
TZOFFSETFROM:+0200
TZOFFSETTO:+0100
END:STANDARD
END:VTIMEZONE
END:VCALENDAR
