BEGIN:VCALENDAR
VERSION:2.0
PRODID:-//Plone.org//NONSGML plone.app.event//EN
X-WR-TIMEZONE:Europe/Vienna
BEGIN:VEVENT
SUMMARY:Mitteldichte Faserplatte: Eine Publikation als Ausstellung
DTSTART;TZID=Europe/Vienna:20121130T180000
DTSTAMP:20260423T113314Z
UID:329893b0954119fbdbc65636f3c1475c@www.akbild.ac.at
CREATED:20220311T223318Z
DESCRIPTION:Interaktion 19.30 Uhr\n \n Öffnungszeiten Di - Fr: 14.00 -18.
 00 Uhr\, Sa 11.00 -14.00 Uhr
LAST-MODIFIED:20240919T080952Z
URL:https://www.akbild.ac.at/de/universitaet/veranstaltungen/ausstellungen
 -vermittlung/2012/akbild_event.2012-11-20.7589352790/SubEvent
END:VEVENT
BEGIN:VTIMEZONE
TZID:Europe/Vienna
X-LIC-LOCATION:Europe/Vienna
BEGIN:STANDARD
DTSTART:20121028T020000
TZNAME:CET
TZOFFSETFROM:+0200
TZOFFSETTO:+0100
END:STANDARD
END:VTIMEZONE
END:VCALENDAR
