BEGIN:VCALENDAR
VERSION:2.0
PRODID:-//Plone.org//NONSGML plone.app.event//EN
X-WR-TIMEZONE:Europe/Vienna
BEGIN:VEVENT
SUMMARY:Hotel Obir Reception
DTSTART;TZID=Europe/Vienna:20130517T170000
DTSTAMP:20260424T160147Z
UID:7afce9cd268ba2dceda7c045d219d0f4@www.akbild.ac.at
CATEGORIES:Ausstellungen
CREATED:20220311T223425Z
DESCRIPTION:Eine Ausstellung des Instituts für bildende Kunst\, Fachberei
 ch Abstrakte Malerei. In Zusammenarbeit mit KinoKreativKulturaktiv\, Bad E
 isenkappel/Kärnten.
LAST-MODIFIED:20240919T080952Z
URL:https://www.akbild.ac.at/de/universitaet/veranstaltungen/ausstellungen
 -vermittlung/2013/akbild_event.2013-05-06.6626153004
END:VEVENT
BEGIN:VTIMEZONE
TZID:Europe/Vienna
X-LIC-LOCATION:Europe/Vienna
BEGIN:DAYLIGHT
DTSTART:20130331T030000
TZNAME:CEST
TZOFFSETFROM:+0100
TZOFFSETTO:+0200
END:DAYLIGHT
END:VTIMEZONE
END:VCALENDAR
