BEGIN:VCALENDAR
VERSION:2.0
PRODID:-//Plone.org//NONSGML plone.app.event//EN
X-WR-TIMEZONE:Europe/Vienna
BEGIN:VEVENT
SUMMARY:Komm mit nach Terezín | Musik in Theresienstadt 1941 - 45 | Musik
  in Theresienstadt als Instrument des jüdischen  Lebenswillens und der NS
 -Propaganda
DTSTART;TZID=Europe/Vienna:20150908T193000
DTSTAMP:20260424T080654Z
UID:406a52d8a22ee1f374f25931a691efc9@www.akbild.ac.at
CREATED:20220311T223703Z
DESCRIPTION:Öffnungszeiten: täglich 10.00 bis 18.00 Uhr\n\n\n Begrüßun
 g: Rektorin Mag.a Eva Blimlinger\n \n Moderation: Heinz Sichrovsky\n \n Ze
 itzeugin: Helga Pollak-Kinsky\n \n Musik: Christa Ratzenböck\, Thomas Sig
 wald\n \n Einführung: Dr.in Lisa Fischer und Mag.a Susanne Thomasberger\n
 \n\n Ausstellung im Rahmen der Veranstaltungsreihe\n \n  EntArteOpera | Me
 isterwerke im Zentrum der Existenz – lebendige Erinnerung.\n \n Im Mitte
 lpunkt steht die Wiederentdeckung eines reichen künstlerischen Vermächtn
 isses\, das  für die Musikschaffenden Identität und Menschenwürde bedeu
 tete. Die Ausstellung findet in Kooperation mit der Akademie der bildenden
  Künste Wien statt.
LAST-MODIFIED:20240919T080948Z
URL:https://www.akbild.ac.at/de/universitaet/veranstaltungen/ausstellungen
 -vermittlung/2015/komm-mit-nach-terezin-musik-in-theresienstadt-1941-45-mu
 sik-in-theresienstadt-als-instrument-des-juedischen-lebenswillens-und-der-
 ns-propaganda/SubEvent
END:VEVENT
BEGIN:VTIMEZONE
TZID:Europe/Vienna
X-LIC-LOCATION:Europe/Vienna
BEGIN:DAYLIGHT
DTSTART:20150329T030000
TZNAME:CEST
TZOFFSETFROM:+0100
TZOFFSETTO:+0200
END:DAYLIGHT
END:VTIMEZONE
END:VCALENDAR
