BEGIN:VCALENDAR
VERSION:2.0
PRODID:-//Plone.org//NONSGML plone.app.event//EN
X-WR-TIMEZONE:Europe/Vienna
BEGIN:VEVENT
SUMMARY:Sag Du es Deinem Kinde! Nationalsozialismus in der eigenen Familie
DTSTART;TZID=Europe/Vienna:20150304T190000
DTSTAMP:20260420T122631Z
UID:bcbbd327b87648912183b48a73b8feb2@www.akbild.ac.at
CREATED:20220311T223637Z
DESCRIPTION:Eine Ausstellung von Friedemann Derschmidt im Rahmen der Forsc
 hungsprojekte\n \n  Conserved Memories\n \n /\n \n  Mem Screen\n \n \n Kur
 ator: Johannes Rauchenberger\n \n \n Öffnungszeiten: Di - Fr 10 -17 Uhr\,
  Sa - So 11-17 Uhr
LAST-MODIFIED:20240919T080945Z
URL:https://www.akbild.ac.at/de/universitaet/veranstaltungen/ausstellungen
 -vermittlung/2015/sag-du-es-deinem-kinde-nationalsozialismus-in-der-eigene
 n-familie/SubEvent
END:VEVENT
BEGIN:VTIMEZONE
TZID:Europe/Vienna
X-LIC-LOCATION:Europe/Vienna
BEGIN:STANDARD
DTSTART:20141026T020000
TZNAME:CET
TZOFFSETFROM:+0200
TZOFFSETTO:+0100
END:STANDARD
END:VTIMEZONE
END:VCALENDAR
