BEGIN:VCALENDAR
VERSION:2.0
PRODID:-//Plone.org//NONSGML plone.app.event//EN
X-WR-TIMEZONE:Europe/Vienna
BEGIN:VEVENT
SUMMARY:Marsch der Frauen | Ungehörige Komponistinnen zwischen Aufbruch\,
  Bruch & Exil
DTSTART;TZID=Europe/Vienna:20160906T193000
DTSTAMP:20260425T032440Z
UID:46b95ac08a636c4577994121a953db63@www.akbild.ac.at
CREATED:20220311T223819Z
DESCRIPTION:Die Ausstellung ist Teil des Festivals\n \n  EntArteOpera 2016
 \n \n mit begleitender Publikation\, Konzerten\, Opern- und Theaterauffüh
 rung.\n \n In Kooperation mit der Akademie der bildenden Künste Wien.\n \
 n Öffnungszeiten: Mo-So\, 10 bis 18 Uhr\, Eintritt frei
LAST-MODIFIED:20240919T080945Z
URL:https://www.akbild.ac.at/de/universitaet/veranstaltungen/ausstellungen
 -vermittlung/2016/marsch-der-frauen-ungehoerige-komponistinnen-zwischen-au
 fbruch-bruch-exil/SubEvent
END:VEVENT
BEGIN:VTIMEZONE
TZID:Europe/Vienna
X-LIC-LOCATION:Europe/Vienna
BEGIN:DAYLIGHT
DTSTART:20160327T030000
TZNAME:CEST
TZOFFSETFROM:+0100
TZOFFSETTO:+0200
END:DAYLIGHT
END:VTIMEZONE
END:VCALENDAR
