BEGIN:VCALENDAR
VERSION:2.0
PRODID:-//Plone.org//NONSGML plone.app.event//EN
X-WR-TIMEZONE:Europe/Vienna
BEGIN:VEVENT
SUMMARY:The ten aspects of the One
DTSTART;TZID=Europe/Vienna:20170517T190000
DTSTAMP:20260424T135352Z
UID:151618935b8d7ec029806d4a987b9a02@www.akbild.ac.at
CREATED:20220311T224050Z
DESCRIPTION:Exhibition by Sofia Cruz (Studio for Art and Photography).
LAST-MODIFIED:20240919T080945Z
URL:https://www.akbild.ac.at/de/universitaet/veranstaltungen/ausstellungen
 -vermittlung/2017/the-ten-aspects-of-the-one/SubEvent
END:VEVENT
BEGIN:VTIMEZONE
TZID:Europe/Vienna
X-LIC-LOCATION:Europe/Vienna
BEGIN:DAYLIGHT
DTSTART:20170326T030000
TZNAME:CEST
TZOFFSETFROM:+0100
TZOFFSETTO:+0200
END:DAYLIGHT
END:VTIMEZONE
END:VCALENDAR
