BEGIN:VCALENDAR
VERSION:2.0
PRODID:-//Plone.org//NONSGML plone.app.event//EN
X-WR-TIMEZONE:Europe/Vienna
BEGIN:VEVENT
SUMMARY:Abschlussarbeiten 17|18
DTSTART;TZID=Europe/Vienna:20180621T160000
DTSTAMP:20260425T135536Z
UID:32d80399e84563daa19bd61422dec03c@www.akbild.ac.at
CREATED:20220311T224214Z
DESCRIPTION:Präsentationen in allen Häusern\n \n | Di-So 14.00–18.00h\
 n\n\n \n  Austellungsorte\n \n \n Hauptgebäude | Augasse 2–6 | 1090 Wie
 n\n \n Atelierhaus | Lehargasse 8 | 1060 Wien\n \n Bildhauerateliers | Kur
 zbauergasse 9 | 1020 Wien
LAST-MODIFIED:20240919T080942Z
URL:https://www.akbild.ac.at/de/universitaet/veranstaltungen/ausstellungen
 -vermittlung/2018/abschlussarbeiten-17-18/SubEvent
END:VEVENT
BEGIN:VTIMEZONE
TZID:Europe/Vienna
X-LIC-LOCATION:Europe/Vienna
BEGIN:DAYLIGHT
DTSTART:20180325T030000
TZNAME:CEST
TZOFFSETFROM:+0100
TZOFFSETTO:+0200
END:DAYLIGHT
END:VTIMEZONE
END:VCALENDAR
