BEGIN:VCALENDAR
VERSION:2.0
PRODID:-//Plone.org//NONSGML plone.app.event//EN
X-WR-TIMEZONE:Europe/Vienna
BEGIN:VEVENT
SUMMARY:LÖSS – Eine Frau in der Landschaft
DTSTART;VALUE=DATE:20200520
DTEND;VALUE=DATE:20201005
DTSTAMP:20260425T123641Z
UID:02316dc0b45cd66dfcfd8be3f65bc061@www.akbild.ac.at
CATEGORIES:Ausstellungen
CREATED:20220311T224427Z
DESCRIPTION:Eine Ausstellung von Elisabeth von Samsonow kuratiert von Feli
 citas Thun-Hohenstein. Eine Kooperation des Naturhistorischen Museums Wien
 \, derAkademie der bildenden Künste Wien und dem Forum Morgen.\n\n\n The 
 Dissident Goddesses' Network lädt zur Eröffnung der Ausstellung im Natur
 historischen Museum Wien. Die Eröffnung wird live gestreamt unter:\n \n  
 www.tdgn.at/loess
LAST-MODIFIED:20240919T080938Z
URL:https://www.akbild.ac.at/de/universitaet/veranstaltungen/ausstellungen
 -vermittlung/2020/loess-2013-eine-frau-in-der-landschaft
END:VEVENT
END:VCALENDAR
