BEGIN:VCALENDAR
VERSION:2.0
PRODID:-//Plone.org//NONSGML plone.app.event//EN
X-WR-TIMEZONE:Europe/Vienna
BEGIN:VEVENT
SUMMARY:Stories of Traumatic Pasts: Counter-Archives for Future Memories
DTSTART;VALUE=DATE:20201008
DTEND;VALUE=DATE:20210404
DTSTAMP:20260424T103354Z
UID:1fb55bf22bd430bcda573be4a50322a9@www.akbild.ac.at
CATEGORIES:Ausstellungen
CREATED:20220311T224448Z
DESCRIPTION:Ausstellung im Rahmen des Forschungsprojektes\n \n  Genealogie
  der Amnesie.\n \n \n Kuratorinnen: Marina Gržinić\, Christina Jauernik 
 und Sophie Uitz
LAST-MODIFIED:20240919T080938Z
URL:https://www.akbild.ac.at/de/universitaet/veranstaltungen/ausstellungen
 -vermittlung/2020/stories-of-traumatic-pasts-counter-archives-for-future-m
 emories
END:VEVENT
END:VCALENDAR
