BEGIN:VCALENDAR
VERSION:2.0
PRODID:-//Plone.org//NONSGML plone.app.event//EN
X-WR-TIMEZONE:Europe/Vienna
BEGIN:VEVENT
SUMMARY:Die Akademie auf der PARALLEL VIENNA 2022
DTSTART;TZID=Europe/Vienna:20220906T170000
DTEND;TZID=Europe/Vienna:20220906T220000
DTSTAMP:20260423T224114Z
UID:624623fa3b844184967ab9220130dd9e@www.akbild.ac.at
CREATED:20220831T100959Z
DESCRIPTION:PARALLEL VIENNA präsentiert junge und aufstrebende sowie etab
 lierte künstlerische Praktiken und bringt Kunstinitiativen aller Art - Ku
 nstvereine\, Galerien\, Projekträume\, Off-Spaces und Künstlerräume -\,
  sowohl österreichische als auch internationale\, unter einem Dach zusamm
 en.
LAST-MODIFIED:20240919T080935Z
URL:https://www.akbild.ac.at/de/universitaet/veranstaltungen/ausstellungen
 -vermittlung/2022/die-akademie-auf-der-parallel-vienna-2022/eroeffnung-par
 allel-vienna
END:VEVENT
BEGIN:VTIMEZONE
TZID:Europe/Vienna
X-LIC-LOCATION:Europe/Vienna
BEGIN:DAYLIGHT
DTSTART:20220327T030000
TZNAME:CEST
TZOFFSETFROM:+0100
TZOFFSETTO:+0200
END:DAYLIGHT
END:VTIMEZONE
END:VCALENDAR
