BEGIN:VCALENDAR
VERSION:2.0
PRODID:-//Plone.org//NONSGML plone.app.event//EN
X-WR-TIMEZONE:Europe/Vienna
BEGIN:VEVENT
SUMMARY:Meine Sicht - Künstlerinnengespräch
DTSTART;TZID=Europe/Vienna:20220520T173000
DTSTAMP:20260424T185912Z
UID:1b1818c904cd427698ee7acde9be91ff@www.akbild.ac.at
CATEGORIES:Vorträge / Veranstaltungen
CREATED:20220506T115313Z
DESCRIPTION:Gemeinsame Führung durch die Ausstellung Handspells. Preis de
 r Kunsthalle Wien 2021 mit Nora Severios und Judith Benz-Schwarzburg.
LAST-MODIFIED:20240919T080935Z
URL:https://www.akbild.ac.at/de/universitaet/veranstaltungen/ausstellungen
 -vermittlung/2022/handspells.-preis-der-kunsthalle-wien-2021/meine-sicht-k
 uenstlerinnengespraech
END:VEVENT
BEGIN:VTIMEZONE
TZID:Europe/Vienna
X-LIC-LOCATION:Europe/Vienna
BEGIN:DAYLIGHT
DTSTART:20220327T030000
TZNAME:CEST
TZOFFSETFROM:+0100
TZOFFSETTO:+0200
END:DAYLIGHT
END:VTIMEZONE
END:VCALENDAR
