BEGIN:VCALENDAR
VERSION:2.0
PRODID:-//Plone.org//NONSGML plone.app.event//EN
X-WR-TIMEZONE:Europe/Vienna
BEGIN:VEVENT
SUMMARY:PATERNOSTER
DTSTART;TZID=Europe/Vienna:20220518T180000
DTSTAMP:20260423T230151Z
UID:9bef6a2451a74a129444b1ffd1ea7f4f@www.akbild.ac.at
CATEGORIES:Ausstellungen
CREATED:20220513T074926Z
DESCRIPTION:Eine Kooperation von BIG und Akademie der bildenden Künste Wi
 en.mit Arbeiten von Ma Jia und Michael Suszynski
LAST-MODIFIED:20240919T080935Z
URL:https://www.akbild.ac.at/de/universitaet/veranstaltungen/ausstellungen
 -vermittlung/2022/paternoster
END:VEVENT
BEGIN:VTIMEZONE
TZID:Europe/Vienna
X-LIC-LOCATION:Europe/Vienna
BEGIN:DAYLIGHT
DTSTART:20220327T030000
TZNAME:CEST
TZOFFSETFROM:+0100
TZOFFSETTO:+0200
END:DAYLIGHT
END:VTIMEZONE
END:VCALENDAR
