BEGIN:VCALENDAR
VERSION:2.0
PRODID:-//Plone.org//NONSGML plone.app.event//EN
X-WR-TIMEZONE:Europe/Vienna
BEGIN:VEVENT
SUMMARY:THE BLUE\, THE PINK\, THE IMMATERIAL\, THE VOID
DTSTART;VALUE=DATE:20220520
DTEND;VALUE=DATE:20220623
DTSTAMP:20260424T223202Z
UID:883622e3623342ea8a1aa37e610d324c@www.akbild.ac.at
CATEGORIES:Ausstellungen
CREATED:20220602T073209Z
DESCRIPTION:THE BLUE\, THE PINK\, THE IMMATERIAL\, THE VOID präsentiert d
 ie Arbeiten von 14 jungen Künstler_innen aus London und Wien\, die sich m
 it dem technologischen Erhabenen auseinandersetzen.
LAST-MODIFIED:20240919T080935Z
URL:https://www.akbild.ac.at/de/universitaet/veranstaltungen/ausstellungen
 -vermittlung/2022/the-blue-the-pink-the-immaterial-the-void
END:VEVENT
END:VCALENDAR
