BEGIN:VCALENDAR
VERSION:2.0
PRODID:-//Plone.org//NONSGML plone.app.event//EN
X-WR-TIMEZONE:Europe/Vienna
BEGIN:VEVENT
SUMMARY:Die Akademie auf der Parallel 2023
DTSTART;VALUE=DATE:20230905
DTEND;VALUE=DATE:20230911
DTSTAMP:20260423T205146Z
UID:4347aed3c8ea4d15bfba1a9731d09043@www.akbild.ac.at
CATEGORIES:Ausstellungen
CREATED:20230901T091635Z
DESCRIPTION:Die PARALLEL VIENNA findet zum 11. Mal statt und bleibt ihrem 
 Ansatz treu\, temporär leerstehende Gebäude als Präsentationsplattform 
 für zeitgenössische Kunst zu nutzen.
LAST-MODIFIED:20240919T080935Z
URL:https://www.akbild.ac.at/de/universitaet/veranstaltungen/ausstellungen
 -vermittlung/2023/die-akademie-auf-der-parallel-2023
END:VEVENT
END:VCALENDAR
