BEGIN:VCALENDAR
VERSION:2.0
PRODID:-//Plone.org//NONSGML plone.app.event//EN
X-WR-TIMEZONE:Europe/Vienna
BEGIN:VEVENT
SUMMARY:[em]nicht die regel[/em] – Ein Dokumentarfilm über Endometriose
  (Ranya Schauenstein\, 2021\, OmdU\, 73 Minuten)
DTSTART;TZID=Europe/Vienna:20230120T180000
DTEND;TZID=Europe/Vienna:20230120T210000
DTSTAMP:20260423T083607Z
UID:8e56d5a4814d4f448786781e9f087378@www.akbild.ac.at
CATEGORIES:Vorträge / Veranstaltungen
CREATED:20221216T091216Z
DESCRIPTION:Ein Projekt von Kathrina Duller organisiert von der Hochschül
 er:innenschaft der Akademie.Nach der Vorführung der deutschen Originalfas
 sung (mdU) folgen ein Erfahrungsbericht und eine (teilweise nur-FLINTA*) G
 esprächsrunde.
LAST-MODIFIED:20240919T080928Z
URL:https://www.akbild.ac.at/de/universitaet/veranstaltungen/ausstellungen
 -vermittlung/2023/rundgang-2023/em-nicht-die-regel-em-ein-dokumentarfilm-u
 eber-endometriose-ranya-schauenstein-2021-omdu-73-minuten
END:VEVENT
BEGIN:VTIMEZONE
TZID:Europe/Vienna
X-LIC-LOCATION:Europe/Vienna
BEGIN:STANDARD
DTSTART:20221030T020000
TZNAME:CET
TZOFFSETFROM:+0200
TZOFFSETTO:+0100
END:STANDARD
END:VTIMEZONE
END:VCALENDAR
