BEGIN:VCALENDAR
VERSION:2.0
PRODID:-//Plone.org//NONSGML plone.app.event//EN
X-WR-TIMEZONE:Europe/Vienna
BEGIN:VEVENT
SUMMARY:HÖLLE 117
DTSTART;VALUE=DATE:20230119
DTEND;VALUE=DATE:20230123
DTSTAMP:20260423T101312Z
UID:35260fc042d846839ac8961bd352f41a@www.akbild.ac.at
CATEGORIES:Ausstellungen
CREATED:20221219T125658Z
DESCRIPTION:Präsentation der Studierenden des Fachbereichs Abstrakte Male
 rei
LAST-MODIFIED:20240919T080932Z
URL:https://www.akbild.ac.at/de/universitaet/veranstaltungen/ausstellungen
 -vermittlung/2023/rundgang-2023/hoelle-117
END:VEVENT
END:VCALENDAR
