BEGIN:VCALENDAR
VERSION:2.0
PRODID:-//Plone.org//NONSGML plone.app.event//EN
X-WR-TIMEZONE:Europe/Vienna
BEGIN:VEVENT
SUMMARY:Offene Werkstätten
DTSTART;TZID=Europe/Vienna:20230120T100000
DTEND;TZID=Europe/Vienna:20230120T180000
DTSTAMP:20260423T093858Z
UID:85db4521928b40ea9ebb4d87a6cb4473@www.akbild.ac.at
CATEGORIES:Ausstellungen
CREATED:20221214T131025Z
DESCRIPTION:Einblicke in die Werkstätten des künstlerischen Lehramtsstud
 iums Gestaltung im Kontext.
LAST-MODIFIED:20240919T080928Z
URL:https://www.akbild.ac.at/de/universitaet/veranstaltungen/ausstellungen
 -vermittlung/2023/rundgang-2023/offene-werkstaetten
END:VEVENT
BEGIN:VTIMEZONE
TZID:Europe/Vienna
X-LIC-LOCATION:Europe/Vienna
BEGIN:STANDARD
DTSTART:20221030T020000
TZNAME:CET
TZOFFSETFROM:+0200
TZOFFSETTO:+0100
END:STANDARD
END:VTIMEZONE
END:VCALENDAR
