BEGIN:VCALENDAR
VERSION:2.0
PRODID:-//Plone.org//NONSGML plone.app.event//EN
X-WR-TIMEZONE:Europe/Vienna
BEGIN:VEVENT
SUMMARY:Online-Portfolioberatung für Studienbewerber_innen der künstleri
 schen Lehramtsstudien
DTSTART;TZID=Europe/Vienna:20230119T120000
DTEND;TZID=Europe/Vienna:20230119T160000
DTSTAMP:20260423T111137Z
UID:410d4e78b0a44a0b85fda98b8bb34739@www.akbild.ac.at
CATEGORIES:Studieninformationen
CREATED:20221214T133240Z
DESCRIPTION:Anmeldung bis spätestens 18.01.2023\, 12.00 Uhr. (Wunschtermi
 n unter Vorbehalt)Terminanfrage für ein 20-minütiges Gespräch per E-Mai
 l: ikl_office@akbild.ac.at.
LAST-MODIFIED:20240919T080928Z
URL:https://www.akbild.ac.at/de/universitaet/veranstaltungen/ausstellungen
 -vermittlung/2023/rundgang-2023/online-portfolioberatung-fuer-studienbewer
 ber_innen-der-kuenstlerischen-lehramtsstudien
END:VEVENT
BEGIN:VTIMEZONE
TZID:Europe/Vienna
X-LIC-LOCATION:Europe/Vienna
BEGIN:STANDARD
DTSTART:20221030T020000
TZNAME:CET
TZOFFSETFROM:+0200
TZOFFSETTO:+0100
END:STANDARD
END:VTIMEZONE
END:VCALENDAR
