BEGIN:VCALENDAR
VERSION:2.0
PRODID:-//Plone.org//NONSGML plone.app.event//EN
X-WR-TIMEZONE:Europe/Vienna
BEGIN:VEVENT
SUMMARY:Come as You Are. Preis der Kunsthalle Wien 2023
DTSTART;TZID=Europe/Vienna:20240415T190000
DTSTAMP:20260424T073615Z
UID:c7aa03eb08c646ba949479a43833766c@www.akbild.ac.at
CATEGORIES:Vorträge / Veranstaltungen
CREATED:20240319T185842Z
DESCRIPTION:Ausstellungseröffnung mit Werken der Gewinner_innen des Preis
 es der Kunsthalle Wien 2023. Eine Kooperation der Akademie der bildenden K
 ünste Wien und der Universität für angewandte Kunst Wien mit der Kunsth
 alle Wien.
LAST-MODIFIED:20240919T080920Z
URL:https://www.akbild.ac.at/de/universitaet/veranstaltungen/ausstellungen
 -vermittlung/2024/come-as-you-are-preis-der-kunsthalle-wien-2023/come-as-y
 ou-are-kunsthalle-wien-prize-2023
END:VEVENT
BEGIN:VTIMEZONE
TZID:Europe/Vienna
X-LIC-LOCATION:Europe/Vienna
BEGIN:DAYLIGHT
DTSTART:20240331T030000
TZNAME:CEST
TZOFFSETFROM:+0100
TZOFFSETTO:+0200
END:DAYLIGHT
END:VTIMEZONE
END:VCALENDAR
