BEGIN:VCALENDAR
VERSION:2.0
PRODID:-//Plone.org//NONSGML plone.app.event//EN
X-WR-TIMEZONE:Europe/Vienna
BEGIN:VEVENT
SUMMARY:Ghost host st
DTSTART;VALUE=DATE:20241202
DTEND;VALUE=DATE:20241209
DTSTAMP:20260424T142849Z
UID:200571c70de54f099b71dc66db12c9be@www.akbild.ac.at
CATEGORIES:Ausstellungen
CREATED:20241119T154445Z
DESCRIPTION:Im Zuge der Art School Alliance – Ausstellung „Ghost host 
 st" in der Aula am Schillerplatz\, präsentieren Ernestina Doku\, Manuela 
 Mares\, Philine Mayr und Zongyu Li ihre künstlerischen Positionen.
LAST-MODIFIED:20241209T074201Z
URL:https://www.akbild.ac.at/de/universitaet/veranstaltungen/ausstellungen
 -vermittlung/2024/ghost-host-st
END:VEVENT
END:VCALENDAR
